BEGIN:VCALENDAR
VERSION:2.0
PRODID:-//wp-events-plugin.com//7.2.3.1//EN
TZID:Europe/Berlin
X-WR-TIMEZONE:Europe/Berlin
BEGIN:VEVENT
UID:6@dvwebsite.chor-stimmige-verhaeltnisse.de
DTSTART;TZID=Europe/Berlin:20260416T190000
DTEND;TZID=Europe/Berlin:20260416T203000
DTSTAMP:20260411T193321Z
URL:https://dvwebsite.chor-stimmige-verhaeltnisse.de/events/verhaeltnisse-
 eine-szenische-a-cappella-revue-2/
SUMMARY:Verhältnisse\, eine szenische A-Cappella-Revue
DESCRIPTION:wir freuen uns: Es gibt noch mal ein Konzert in Altona!\nWer al
 so im Februar keine Zeit hatte\, unseren Auftritt zu sehen\, hätte noch e
 ine Chance uns zu erleben.\nUnd natürlich darf man auch ein zweites Mal d
 abei sein ...
ATTACH;FMTTYPE=image/jpeg:https://dvwebsite.chor-stimmige-verhaeltnisse.de
 /wp-content/uploads/2026/04/St-vrh_Flyer_Schule-HH.jpg
LOCATION:Esther Bejarano Schule\, Regerstraße 21 – 25\, Hamburg\, 22761\
 , Deutschland
X-APPLE-STRUCTURED-LOCATION;VALUE=URI;X-ADDRESS=Regerstraße 21 – 25\, Ha
 mburg\, 22761\, Deutschland;X-APPLE-RADIUS=100;X-TITLE=Esther Bejarano Sch
 ule:geo:0,0
END:VEVENT
BEGIN:VTIMEZONE
TZID:Europe/Berlin
X-LIC-LOCATION:Europe/Berlin
BEGIN:DAYLIGHT
DTSTART:20260329T030000
TZOFFSETFROM:+0100
TZOFFSETTO:+0200
TZNAME:CEST
END:DAYLIGHT
END:VTIMEZONE
END:VCALENDAR