BEGIN:VCALENDAR
VERSION:2.0
PRODID:-//wp-events-plugin.com//7.2.3.1//EN
TZID:Europe/Berlin
X-WR-TIMEZONE:Europe/Berlin
BEGIN:VEVENT
UID:3@dvwebsite.chor-stimmige-verhaeltnisse.de
DTSTART;TZID=Europe/Berlin:20260222T180000
DTEND;TZID=Europe/Berlin:20260222T193000
DTSTAMP:20260218T174405Z
URL:https://dvwebsite.chor-stimmige-verhaeltnisse.de/events/verhaeltnisse-
 eine-szenische-a-cappella-revue/
SUMMARY:Verhältnisse\, eine szenische A-Cappella-Revue
DESCRIPTION:Manche Verhältnisse halten ein Leben lang ...\n\nDie Stimmigen
  Verhältnisse präsentieren mit ihrer szenischen A-Capelle-Revue allerlei
  Verhältnisse - liebevolle\, zweideutige\, chaotische - auf jeden Fall vi
 elstimmige!\n\nIm Sprechwerk\nKlaus-Groth-Straße 23\, 20535 Hamburg\n10 G
 ehminuten vom Bahnhof Berliner Tor\nVorverkauf unter sprechwerk.hamburg\,d
 e
ATTACH;FMTTYPE=image/jpeg:https://dvwebsite.chor-stimmige-verhaeltnisse.de
 /wp-content/uploads/2025/11/Konzert-im-Sprechwerk.jpg
LOCATION:Hamburger Sprechwerk\, Klaus-Groth-Str. 23\, Hamburg\, Hamburg\, 2
 0535\, Deutschland
X-APPLE-STRUCTURED-LOCATION;VALUE=URI;X-ADDRESS=Klaus-Groth-Str. 23\, Hambu
 rg\, Hamburg\, 20535\, Deutschland;X-APPLE-RADIUS=100;X-TITLE=Hamburger Sp
 rechwerk:geo:0,0
END:VEVENT
BEGIN:VTIMEZONE
TZID:Europe/Berlin
X-LIC-LOCATION:Europe/Berlin
BEGIN:STANDARD
DTSTART:20251026T020000
TZOFFSETFROM:+0200
TZOFFSETTO:+0100
TZNAME:CET
END:STANDARD
END:VTIMEZONE
END:VCALENDAR